BEGIN:VCALENDAR
VERSION:2.0
CALSCALE:GREGORIAN
PRODID:-//MyApp//Calendar 1.0//EN
BEGIN:VEVENT
METHOD:PUBLISH
UID:65661@regionalniportaly.cz
DTSTAMP:20260420T080133Z
DTSTART;VALUE=DATE:20260502
DTEND;VALUE=DATE:20260503
SUMMARY:Zámek Křinec | prohlídka a přednáška s majitelem zámku
DESCRIPTION:VÝSTAVA TŘI MUŽI\, TŘI STOLETÍ\, JEDEN ZÁMEK na zámku v KřinciPROHLÍDKY S MAJITELEM ZÁMKU A PŘEDNÁŠKYLetos je tomu úctyhodných dvacet let\, co nejen že změnil náš zámek majitele\, ale také je to dvacet let\, kdy započala jeho rekonstrukce a kdy se zámek začal probouzet k životu.&nbsp\;&nbsp\;V rámci tohoto kulatého jubilea jsme se rozhodli připravit ve spolupráci s Městysem Křinec výstavu&nbsp\;tří osobností\, které v různých obdobích spojil pouze jeden objekt – náš zámek. Čeká vás skutečná cesta časem\, spousta zajímavostí i materiálů\, které jste možná ještě nikdy neviděli:&nbsp\;19. století s Antonínem&nbsp\;Stifterem: místním lékárníkem\, badatelem\, fotografem\, který se zasloužil např. o první amatérský fotografický akt\; 20. století s Leopoldem&nbsp\;Nejlem: zapáleným kronikářem Křince\, který nás nechá nahlédnout do&nbsp\;dobových kronikových zápisů a jiných historických či fascinujících osobních materiálů\, nebo současnost s osobností Zdeňka&nbsp\;Harapese: majitelem zámku\, díky kterému tak&nbsp\;vzkvétá\, ale jednoduché to není\, jak prokáží fotografie či ukázky&nbsp\;stavu zámku "před a po".&nbsp\;&nbsp\;Výstava bude probíhat od května do října 2026\, v rámci výstavy proběhnou i komentované prohlídky s majitelem zámku a také cyklus nevšedních přednášek s osobním příběhem pana&nbsp\;Harapese&nbsp\;a se spoustou zajímavostí ze "zákulisí" rekonstrukce a vlastnictví zámku. První přednáška na téma "Proč jsem si dobrovolně přidělal práci na celý život" se uskuteční v sobotu 2. května 2026.&nbsp\;&nbsp\;CYKLUS PŘEDNÁŠEK S MAJITELEM ZÁMKU:2.5. Proč jsem si dobrovolně přidělal práci na celý život4.7. Zámek není pohádka: pravdao jeho rekonstrukci26.9. Památkáři\, projekty\, povolení a peníze: jak se nezbláznit31.10. Budoucnost zámku Křinec: sny a plányPodrobnosti včetně termínů přednášek a prohlídek naleznete na&nbsp\;www.zamekkrinec.cz.&nbsp\;&nbsp\;Srdečně zveme všechny - přijďte si prohlédnout historii zámku i Křince z trochu jiného pohledu. Těšíme se na vás!&nbsp\;-----------------------------------------------------Zámek KřinecRodinný zámek ze 17. století nacházející se pouhou hodinu jízdy od Prahy ve Středočeském kraji je ideálním místem pro ty\, kteří hledají unikátní prostředí pro svou svatbu\, oslavu\, firemní akci nebo jinou společenskou událost.Prohlídka křineckého zámku\, to je jedno velké vyprávění o velmi turbulentní historii šlechtických rodů\, které zámek v průběhu staletí postupně vlastnily a také ztratily. Jedná se o příběh vzletů\, pádů a skoro definitivním zániku této mimořádně skvostné památky\, která se díky nezměrnému úsilí současných majitelů\, dochovala pro nás\, a dochová se také generacím příštím.&nbsp\;V rámci prohlídkového okruhu&nbsp\;je možné si prohlédnout jak historickou a zrenovovanou část zámku s modrými salonky a&nbsp\;barokním sálem\, tak i v případě vašich časových možností i část s aktuálními výstavami\, kde je možné nahlédnout do místností\, které ještě rekonstrukcí neprošly a jsou tedy v "surovém" stavu.Letos slavíme 20. výročí\, kdy dostal zámek svou druhou šanci na život a díky péči soukromého majitele začíná postupně vzkvétat. Přijďte se přesvědčit!&nbsp\;
LOCATION:Křinec
END:VEVENT
END:VCALENDAR