BEGIN:VCALENDAR
VERSION:2.0
CALSCALE:GREGORIAN
PRODID:-//MyApp//Calendar 1.0//EN
BEGIN:VEVENT
METHOD:PUBLISH
UID:63873@regionalniportaly.cz
DTSTAMP:20260419T124021Z
DTSTART;VALUE=DATE:20260426
DTEND;VALUE=DATE:20260427
SUMMARY:Nymburský půlmaraton 2026
DESCRIPTION:
LOCATION:Nymburk
END:VEVENT
END:VCALENDAR