BEGIN:VCALENDAR
VERSION:2.0
CALSCALE:GREGORIAN
PRODID:-//MyApp//Calendar 1.0//EN
BEGIN:VEVENT
METHOD:PUBLISH
UID:63248@regionalniportaly.cz
DTSTAMP:20260422T080915Z
DTSTART;VALUE=DATE:20260328
DTEND;VALUE=DATE:20260329
SUMMARY:53. Tradiční rybářský ples 2026
DESCRIPTION:ČRS \, z.s. MO NymburkVás srdečně zve na Tradiční rybářský ples 2026
LOCATION:Nymburk
END:VEVENT
END:VCALENDAR