BEGIN:VCALENDAR
VERSION:2.0
CALSCALE:GREGORIAN
PRODID:-//MyApp//Calendar 1.0//EN
BEGIN:VEVENT
METHOD:PUBLISH
UID:59509@regionalniportaly.cz
DTSTAMP:20260422T003320Z
DTSTART;VALUE=DATE:20260303
DTEND;VALUE=DATE:20260304
SUMMARY:Bohumil Pečinka a Petros Michopulos: Kecy a Politika Live
DESCRIPTION:Kecy a politika komentátorů Bohumila Pečinky a Petrose Michopulose. Současná politika pohledem dvou rozdílných osobností\, kteří se nebojí říct své názory.&nbsp\;Bohumil PečinkaPolitický komentátor a dlouholetý zástupce šéfredaktora Reflexu.Petros MichopulosExpert na politický marketing
LOCATION:Benátky nad Jizerou
END:VEVENT
END:VCALENDAR