BEGIN:VCALENDAR
VERSION:2.0
CALSCALE:GREGORIAN
PRODID:-//MyApp//Calendar 1.0//EN
BEGIN:VEVENT
METHOD:PUBLISH
UID:59021@regionalniportaly.cz
DTSTAMP:20260422T063136Z
DTSTART;VALUE=DATE:20260131
DTEND;VALUE=DATE:20260201
SUMMARY:Pocta Zuzaně Navarové
DESCRIPTION:O akciKapela&nbsp\;Pocta Zuzaně Navarové&nbsp\;je jednou z nejautentičtějších revival kapel této hudby. Osobitost členů kapely jen podtrhává jedinečný zážitek\, který si odnesete z každého koncertu.&nbsp\;Nádherné písničky kapel&nbsp\;Nerez&nbsp\;a&nbsp\;Koa\, emoce\, živost\, tanec\, slzy\, smích a radost\, to všechno je kapela&nbsp\;Pocta Zuzaně Navarové. Hrají s velkou energií a vášní a jejich koncerty jsou vzpomínkové\, ale i taneční a radostné.&nbsp\;S pokorou vzpomínají na&nbsp\;Zuzanu Navarovou&nbsp\;a jejím písním dávají druhý dech. Skupina o projektu říká:&nbsp\;„Zuzky tvorba je nesmrtelná a pro nás i publikum jsou to vždy velmi emotivní koncerty. Každý koncert hrajeme s velkou pokorou. Kapela působí na scéně již skoro deset let\, a má za sebou malé ale i velké koncerty\, festivaly a plno krásných spoluprací\, například společný koncert s&nbsp\;Máriem Bihárim&nbsp\;v roce 2024.Kapelu tvoří&nbsp\;Barbora Červinková&nbsp\;- zpěv\, perkuse\,&nbsp\;Tomáš Pecka&nbsp\;- zpěv\, kytara\, cello\, mandolína\, piano\,&nbsp\;Antonín Jína&nbsp\;- zpěv\, bicí\, perkuse\,&nbsp\;Stanislav Šedivý&nbsp\;- kytara\, perkuse\,Jan Neruda&nbsp\;- baskytara\, zpěv\,&nbsp\;Nicholas Roy Arthofer&nbsp\;- trubka\, zpěv\, perkuse.
LOCATION:Volanice
END:VEVENT
END:VCALENDAR