BEGIN:VCALENDAR
VERSION:2.0
CALSCALE:GREGORIAN
PRODID:-//MyApp//Calendar 1.0//EN
BEGIN:VEVENT
METHOD:PUBLISH
UID:56502@regionalniportaly.cz
DTSTAMP:20260422T001159Z
DTSTART;VALUE=DATE:20260725
DTEND;VALUE=DATE:20260726
SUMMARY:Den princezen a rytířů - Zámek Karlova Koruna
DESCRIPTION:VÍTEJTE V&nbsp\;POHÁDKOVÉM SVĚTĚ PLNÉM KOUZEL\, HER A FANTAZIEJiž tradiční rodinný festival vám přinese opět spoust zábavy jak pro ty malé\, tak pro ty velké.Vstupte s námi do&nbsp\;říše pohádek\, kde se&nbsp\;splní sny malým i velkým. Nejkrásnější české zámky hostí&nbsp\;Pohádkový svět plný kouzel\, her a&nbsp\;fantazie. Den princezen a rytířů je věnovaný&nbsp\;českým pohádkám\, princeznám\, rytířským soubojům.Programem jako vždy provede Sabina Laurinová společně s princi&nbsp\;Mišuge&nbsp\;z Brna a Jakubem z Toušic a dalšími&nbsp\;princeznami a rytíři.&nbsp\;Do světa fantazie vás vtáhnou nejen pohádkoví interpreti\, v Magic zóně si pak užijete ještě víc včetně přímého kontaktu s vytupujícími a přednostním focením s nimi.&nbsp\;Na zámku Karlova Koruna&nbsp\;se můžete těšit především na Lollipopz\, Pokáče\,&nbsp\;Káju a Bambuláčka\, Milana Peroutku\, Adélu Zouharovou\, Adélku Hesovou\, Pigy a Lilly\, LilieN&nbsp\;a další.Detailní přehled najdete na stránce&nbsp\;www.denprincezen.cz\,Před zakoupením vstupenek si přečtěte návštěvní řád.Změny v&nbsp\;programu vyhrazeny.
LOCATION:Chlumec nad Cidlinou
END:VEVENT
END:VCALENDAR