BEGIN:VCALENDAR
VERSION:2.0
CALSCALE:GREGORIAN
PRODID:-//MyApp//Calendar 1.0//EN
BEGIN:VEVENT
METHOD:PUBLISH
UID:55591@regionalniportaly.cz
DTSTAMP:20260422T161525Z
DTSTART;VALUE=DATE:20251024
DTEND;VALUE=DATE:20251025
SUMMARY:Luboš Pospíšil & 5P
DESCRIPTION:Luboš Pospíšil&nbsp\;koncertuje s kapelou&nbsp\;5P\, kterou dále tvoří kytarista&nbsp\;Mirek Linhart&nbsp\;(též Yo Yo band\, Dr.Max) a o generaci mladší muzikanti: klávesista a kapelník&nbsp\;Ondřej Fencl&nbsp\;(též Schodiště\, Hromosvod\, V. Merta\, J.Hrubý\, V. Koubek\, Marsyas...)\, bubeník&nbsp\;Jakub Nývlt&nbsp\;(Sto zvířat\, Oskar Petr band)\, baskytarista&nbsp\;Jan Neruda&nbsp\;(Věra Martinová band\, Pocta Zuzaně Navarové...) a perkusista&nbsp\;Michal Hnátek&nbsp\;(Divadlo Elf\, Jan Hrubý a přátelé).
LOCATION:Volanice
END:VEVENT
END:VCALENDAR