BEGIN:VCALENDAR
VERSION:2.0
CALSCALE:GREGORIAN
PRODID:-//MyApp//Calendar 1.0//EN
BEGIN:VEVENT
METHOD:PUBLISH
UID:55590@regionalniportaly.cz
DTSTAMP:20260422T143921Z
DTSTART;VALUE=DATE:20250926
DTEND;VALUE=DATE:20250927
SUMMARY:Flamengo Reunion Session
DESCRIPTION:Flamengo Reunion SessionKultovní kapela&nbsp\;Flamengo\,&nbsp\;dnes&nbsp\;Flamengo Reunion Session&nbsp\;navazuje na zlatou éru Flamenga let 1970 – 1972\, kdy za mikrofonem zněl hlas Ivana Khunta a Vladimíra Mišíka. V&nbsp\;té době také vzniklo jedno z&nbsp\;nejuznávanějších rockových alb Československé historie\,&nbsp\;Kuře v&nbsp\;hodinkách.&nbsp\;Flamengo Reunion Session&nbsp\;se opírá o dvojici původních členů Flamenga\,&nbsp\;Pavla Fořta&nbsp\;(kytara) a&nbsp\;Vladimíra „Gumu“ Kulhánka&nbsp\;(baskytara). Doplňují je&nbsp\;Honza Holeček&nbsp\;(Hammond B3\, zpěv)\,&nbsp\;Jiří „Zelí“ Zelenka&nbsp\;(bicí\, vokály) a&nbsp\;Vladimír „Boryš“ Secký&nbsp\;(saxofon\, flétna a vokály).&nbsp\;Flamengo Reunion Session&nbsp\;se svým jedinečným bluesrockovým zvukem\, původními členy a repertoárem skladeb z&nbsp\;alba Kuře v&nbsp\;hodinkách a dalších původních i převzatých skladeb&nbsp\;&nbsp\;slibuje všem fanouškům&nbsp\;originální a autentický zážitek legendárního&nbsp\;FLAMENGA.&nbsp\;V dubnu&nbsp\;roku 2023 uvedla v premiéře Česká televize celovečerní dokument&nbsp\;Flamengo Reunion Session – Kuře v&nbsp\;hodinkách 50&nbsp\;o historii Flamenga a o současné podobě kapely Flamengo Reunion Session. Součástí dokumentu je záznam živého koncertu z&nbsp\;festivalu Jurkovič Open Air.&nbsp\;
LOCATION:Volanice
END:VEVENT
END:VCALENDAR