BEGIN:VCALENDAR
VERSION:2.0
CALSCALE:GREGORIAN
PRODID:-//MyApp//Calendar 1.0//EN
BEGIN:VEVENT
METHOD:PUBLISH
UID:55589@regionalniportaly.cz
DTSTAMP:20260422T144020Z
DTSTART;VALUE=DATE:20251129
DTEND;VALUE=DATE:20251130
SUMMARY:Nerez & Lucia
DESCRIPTION:Zakládající členové legendárních Nerez Vít Sázavský a Zdeněk Vřešťál se v roce 2019 spojili se zpěvačkou Luciou Šoralovou a natočili desku\, která obsahuje 12 převážně autorských písní od Zdeňka Vřešťála a Lucie Šoralové\, a se zajímavými hostujícími autory (Ondřej Soukup nebo Silvia Kaščáková). V lednu 2021 nahrála skupina již druhé album\, které se jmenuje&nbsp\;CELA&nbsp\;a vyjde na CD i jako vinyl 25. května 2021. Album obsahuje 13 písní\, jejichž autory jsou především Lucia Šoralová a Zdeněk Vřešťál. Textově je doplňuje slovenská básnířka a textařka Silvia Kaščáková. Nahrávka je žánrově velice pestrá\, od folkové balady po kvalitní pop. Aranžmá jednotlivých songů jsou dílem Víta Sázavského (vokální party) a Roberta Fischmanna. Instrumentální výkony jednotlivých hudebníků potvrzují vývoj skupiny NEREZ &amp\; LUCIA. V písních uslyšíte názvuky mnoha evropských kultur i hudebních stylů. Kromě hlavního tria Šoralová - Sázavský - Vřešťál se na albu jako sóloví zpěváci představují i Robert Fischmann a Grégorian Brun. Čeština\, slovenština\, francouzština i španělština jsou jazyky\, ve kterých zpívá nový Nerez. Jedinečné čtyřhlasé sbory\, virtuozně interpretované instrumentální pasáže Davida Lomiče na akordeon a saxofony\, Roberta Fischmanna na flétny\, klavír a bicí nebo Grega Bruna na kontrabas a kytaru. Album se velikým obloukem vrací do dob vzniku LP Masopust původních Nerez. Dva autoři a jeden hlavní aranžér - to jsou stavební kameny\, na nichž stojí nový projekt skupiny NEREZ &amp\; LUCIA.
LOCATION:Volanice
END:VEVENT
END:VCALENDAR