BEGIN:VCALENDAR
VERSION:2.0
CALSCALE:GREGORIAN
PRODID:-//MyApp//Calendar 1.0//EN
BEGIN:VEVENT
METHOD:PUBLISH
UID:54605@regionalniportaly.cz
DTSTAMP:20260422T051330Z
DTSTART;VALUE=DATE:20251110
DTEND;VALUE=DATE:20251111
SUMMARY:Hudba Harryho Pottera při svíčkách | Jičín
DESCRIPTION:Nenechte si ujít večer plný magické hudby\, kde zazní ty nejznámější melodie a písně ze všech filmů Harryho Pottera. Světlo stovky svíček vytvoří nezapomenutelnou atmosféru koncertu.Program v jedinečném klavírním provedení představuje výběr filmových skladeb od pětinásobného oscarového skladatele Johna Williamse společně s díly Patricka Doyla\, Nicolase Hoopera a Alexandra Desplata\, držitele Oscara\, a nabízí to nejlepší z hudby Harryho Pottera.Tento magický koncert nabídne víc než jen hudbu\; stovky svíček rozzáří prostor a přidají na tajemné atmosféře plné mystiky a kouzel.Můžete se těšit na známé melodie a písně z filmů Harryho Pottera\, upravené pro klavírní koncert a to v podání předního českého klavíristy Jakuba Uhlíka.V rámci Evropské tour alternují také: František Panáček\,&nbsp\;Lucie Kubátová a Alexandr Starý.&nbsp\;Akce je přístupná od 12 let. Každý účastník musí předložit platnou vstupenku&nbsp\; zakoupenou výhradně v síti smsticket.&nbsp\;
LOCATION:Jičín
END:VEVENT
END:VCALENDAR