BEGIN:VCALENDAR
VERSION:2.0
CALSCALE:GREGORIAN
PRODID:-//MyApp//Calendar 1.0//EN
BEGIN:VEVENT
METHOD:PUBLISH
UID:54342@regionalniportaly.cz
DTSTAMP:20260422T205143Z
DTSTART;VALUE=DATE:20250520
DTEND;VALUE=DATE:20250521
SUMMARY:Jak se nezbláznit aneb Prevence syndromu vyhoření
DESCRIPTION:Simona Babčáková\nMáte pocit\, že toho je na vás moc? Jste permanentně ve stresu\, ztrácíte radost ze života a nevíte\, co s tím? Přijďte na originální přednášku Simony Babčákové zaměřenou na prevenci vyhoření. Praktické tipy a zábava zaručeny. Akce se koná ve spolupráci s Městským kinem Sokol a Místním akčním plánem vzdělávání na Nymbursku.\n \nVstupné: 100 Kč\nKdy: 20.5.2025 18:00\nKde: Městské Kino Sokol
LOCATION:Nymburk
END:VEVENT
END:VCALENDAR