BEGIN:VCALENDAR
VERSION:2.0
CALSCALE:GREGORIAN
PRODID:-//MyApp//Calendar 1.0//EN
BEGIN:VEVENT
METHOD:PUBLISH
UID:53686@regionalniportaly.cz
DTSTAMP:20260421T165434Z
DTSTART;VALUE=DATE:20250430
DTEND;VALUE=DATE:20250501
SUMMARY:Hasičské Čarodějnice na Špičce 2025
DESCRIPTION:Technická kontrola košťat\, Miss Čarodějnice\, show s Krejčíkem Honzou a další. Občerstvení zajištěno. Kdy: 30.4.2025 16:30\nKde: Nymburská Špička
LOCATION:Nymburk
END:VEVENT
END:VCALENDAR