BEGIN:VCALENDAR
VERSION:2.0
CALSCALE:GREGORIAN
PRODID:-//MyApp//Calendar 1.0//EN
BEGIN:VEVENT
METHOD:PUBLISH
UID:53087@regionalniportaly.cz
DTSTAMP:20260421T234356Z
DTSTART;VALUE=DATE:20250508
DTEND;VALUE=DATE:20250511
SUMMARY:ZÁMEK KŘINEC | spec. prohlídky k 80. výročí konce 2. sv. v.
DESCRIPTION:Zámek KřinecRodinný zámek ze 17. století nacházející se pouhou hodinu jízdy od Prahy ve Středočeském kraji je ideálním místem pro ty\, kteří hledají unikátní prostředí pro svou svatbu\, oslavu\, firemní akci nebo jinou společenskou událost.Druhá světová válka a její konec v Křinci. Jak dopadl rod Bethmannů\, poslední aristokratický rod\, který vlastnil zámek Křinec? A jak vypadalo ukončení druhé světové války na křinecku? Vyprávět vám budou jak naši zkušení průvodci\, tak také sám současný majitel zámku\, pan Harapes.&nbsp\;Prohlídky s panem majitelem jsou ve čtvrtek 8. 5. od 13.30&nbsp\;hod. a v sobotu 10. 5. od 13.30 hod.
LOCATION:Křinec
END:VEVENT
END:VCALENDAR