BEGIN:VCALENDAR
VERSION:2.0
CALSCALE:GREGORIAN
PRODID:-//MyApp//Calendar 1.0//EN
BEGIN:VEVENT
METHOD:PUBLISH
UID:52583@regionalniportaly.cz
DTSTAMP:20260422T125542Z
DTSTART;VALUE=DATE:20250917
DTEND;VALUE=DATE:20250918
SUMMARY:Koncert filmové hudby Hanse Zimmera
DESCRIPTION:Připravte se na jedinečný večer\, který vás zavede do světa nejikoničtější filmové hudby. Masarykovo divadlo v Jičíně&nbsp\;přivítá symfonický&nbsp\;orchestr Grande Orchestra\, který představí mistrovská díla slavného skladatele Hansa Zimmera v rámci exkluzivního koncertu.Tento koncert je povinností pro všechny milovníky filmové hudby! Přijďte si užít nezapomenutelný večer plný emocí a hudebních skvostů\, které definovaly moderní kinematografii.Hans Zimmer je německý hudební skladatel\, který se proslavil díky své práci na filmových soundtrackech. Je známý svou schopností přinést intenzitu a emocionální hloubku do filmového vyprávění prostřednictvím hudby. Mezi jeho nejúspěšnější filmy patří Počátek\, Interstellar\, Duna či Gladiátor\,&nbsp\;které získaly srdce publika po celém světě. Zimmerova tvorba mu vynesla řadu ocenění\, včetně dvou oscarů\, tří zlatých glóbů\, čtyř Grammy - celkem 37 ocenění.Nenechte si ujít tuto jedinečnou příležitost prožít hudbu Hansa Zimmera naživo v podání skvělého orchestru GRANDE ORCHESTRA!Vstupenky jsou již v prodeji. Zajistěte si svá místa a připravte se na hudební zážitek\, který nikdy nezapomenete.Akce je přístupná od 12 let. Každý účastník musí předložit platnou vstupenku&nbsp\; zakoupenou výhradně v síti SMS ticket.
LOCATION:Jičín
END:VEVENT
END:VCALENDAR