BEGIN:VCALENDAR
VERSION:2.0
CALSCALE:GREGORIAN
PRODID:-//MyApp//Calendar 1.0//EN
BEGIN:VEVENT
METHOD:PUBLISH
UID:52355@regionalniportaly.cz
DTSTAMP:20260422T192639Z
DTSTART;VALUE=DATE:20250419
DTEND;VALUE=DATE:20250420
SUMMARY:Verona v Kopidlně
DESCRIPTION:Přijď&nbsp\;si zatančit\, zazpívat a zažít jedinečnou atmosféru se skupinou VERONA\, kde zazní jejich největší hity.Nezapomeň pozvat i své přátele - bude to jízda!
LOCATION:Kopidlno
END:VEVENT
END:VCALENDAR