BEGIN:VCALENDAR
VERSION:2.0
CALSCALE:GREGORIAN
PRODID:-//MyApp//Calendar 1.0//EN
BEGIN:VEVENT
METHOD:PUBLISH
UID:51283@regionalniportaly.cz
DTSTAMP:20260422T160229Z
DTSTART;VALUE=DATE:20250321
DTEND;VALUE=DATE:20250322
SUMMARY:Cello Republic
DESCRIPTION:Světoznámé kvarteto Cello Republic vystoupí v pátek 21. března v milovickém kulturním domě. Ulovte své vstupenky včas!
LOCATION:Milovice
END:VEVENT
END:VCALENDAR