BEGIN:VCALENDAR
VERSION:2.0
CALSCALE:GREGORIAN
PRODID:-//MyApp//Calendar 1.0//EN
BEGIN:VEVENT
METHOD:PUBLISH
UID:47489@regionalniportaly.cz
DTSTAMP:20260422T142028Z
DTSTART;VALUE=DATE:20241129
DTEND;VALUE=DATE:20241130
SUMMARY:Ivan Hlas Trio
DESCRIPTION:Ivan Hlas \, držitel Českého lva a dvou cen Akademie populární hudby¨.Koncert známého zpěváka a jeho přátel. Ivan Hlas se proslavil především písněmi k filmu Šakalí léta\, za něž v roce 1993 obdržel Českého lva za nejlepší hudbu. Je držitelem dvou cen Akademie populární hudby a autorem řady hitů (Malagelo\, Karlín\, Aranka umí hula hop\, Miláčku\, vrať se.) Vyrůstal v pražské čtvrti Hanspaulka\, líhni proslulých dejvických kapel. Vyučil se knihkupcem\, ale brzo se začal živit jako muzikant. Prošel skupnami The Mice\, Žízeň\, Navi Papaya\, Ivan Hlas a Nahlas. Hrál i s kapelou Yo Yo Band nebo Ondřejem Hejmou. Od roku 2005 vystupuje s excelentními muzikanty - kytaristou Norbim Kovácsem a violoncellistou Jaroslavem Olinem Nejezchlebou v Triu Ivana Hlase.&nbsp\;
LOCATION:Volanice
END:VEVENT
END:VCALENDAR