BEGIN:VCALENDAR
VERSION:2.0
CALSCALE:GREGORIAN
PRODID:-//MyApp//Calendar 1.0//EN
BEGIN:VEVENT
METHOD:PUBLISH
UID:45847@regionalniportaly.cz
DTSTAMP:20260422T125613Z
DTSTART;VALUE=DATE:20240928
DTEND;VALUE=DATE:20240929
SUMMARY:Vtípečky v Nymburce // Stand-up show
DESCRIPTION:Vtípečky se zelím přináší ty nejvypečenější komiky nové generace. Čtveřice vystupujících vám naservíruje to nejčerstvější\, co napekli za poslední dobu.Své vtipy jako na podnose přinesou:Lukáš KaňkaAnna BednářováOndřej CabalVeronika RezkováTěšíme se na vás
LOCATION:Nymburk
END:VEVENT
END:VCALENDAR