BEGIN:VCALENDAR
VERSION:2.0
CALSCALE:GREGORIAN
PRODID:-//MyApp//Calendar 1.0//EN
BEGIN:VEVENT
METHOD:PUBLISH
UID:45702@regionalniportaly.cz
DTSTAMP:20260422T112440Z
DTSTART;VALUE=DATE:20240927
DTEND;VALUE=DATE:20240928
SUMMARY:Koncert Honza Křížek a Akustik Band
DESCRIPTION:Honza Křížek - Zakladatel a bývalý frontman Walk Choc Ice\, který později hrál a spolupracoval se skupinami Blue Effect\, Koller Band\, Wanastovy Vjecy\, Kurtizány z 25. Avenue\, Anna K.\, Meky Žbirkou nebo Ivanem Králem.&nbsp\;Honza se svou kapelou představí průřez svojí bohatou hudební kariérou v akustickém podání. Dojde na vybrané písně z repertoáru „Walk Choc Ice“\, hit&nbsp\;„Rejdit“&nbsp\;chybět samozřejmě nebude\, stejně jako&nbsp\;Slunečný hrob&nbsp\;a&nbsp\;Rosenka&nbsp\;z repertoáru&nbsp\;Blue Effect. Těšit se můžete také na písničky z jeho současné sólové tvorby a novinky z aktuálního alba III.&nbsp\;V tomto akustickém setu\, který je zcela výjimečný svou intimnější atmosférou\, dojde také na vybrané cover verze\, jako např.&nbsp\;Variace na renesanční téma&nbsp\;od&nbsp\;Vladimíra Mišíka\,&nbsp\;Dancing Barefoot&nbsp\;od&nbsp\;Patti Smith&nbsp\;a&nbsp\;Ivana Krále\, nebo skladbu&nbsp\;Bratříčku&nbsp\;z repertoáru&nbsp\;Karla Kryla\, kterou Honza zazpíval v roce 2018 na zaplněném Václavském náměstí v Praze u příležitosti vzpomínkové akce&nbsp\;Koncert 68. Máte se rozhodně na co těšit!Koncert se koná v sále místního pohostinství ve Volanicích - Hospoda u Špejcharu. maps.app.goo.gl/af7nK6SuHjZT2iNJ6
LOCATION:Volanice
END:VEVENT
END:VCALENDAR