BEGIN:VCALENDAR
VERSION:2.0
CALSCALE:GREGORIAN
PRODID:-//MyApp//Calendar 1.0//EN
BEGIN:VEVENT
METHOD:PUBLISH
UID:45188@regionalniportaly.cz
DTSTAMP:20260422T112621Z
DTSTART;VALUE=DATE:20241025
DTEND;VALUE=DATE:20241026
SUMMARY:DOGA + host Agnes Rock
DESCRIPTION:DOGA + host Agnes RockKultovní rocková čtveřice DOGA&nbsp\;zavítá do našeho kulturního domu se svou velkou show a&nbsp\; výpravnou scénou&nbsp\;plnou originálních efektů.Doga\, založená v Karviné v roce 1988\, je významná svým přínosem k české hardrockové scéně. Kapela debutovala v roce 1993 albem "Doga"\, z něhož se vyčleňuje hit "Nejsi nevinná". Doga prošla během let několika personálními změnami a rozšířila svou diskografii o řadu alb\, mezi která patří "No a co!!" a "Já se na to...". Jejich hudba\, kombinující hard rock a heavy metal\, získala uznání na české hudební scéně i mezi fanoušky.Host&nbsp\;Agnes Rock&nbsp\;je česká rocková pohodová kapela .Frontman kapely je Jindřich Kubík (Ex-člen Traktor\, Mayday\, Gallileo)\,která&nbsp\; hraje převzaté písně známých interpretů.&nbsp\;Časový plán (přibližný)19:30&nbsp\;otevření do sálu21:00&nbsp\;Koncert kapely DOGA22:30 - 02:00&nbsp\;Kapela Agnes Rock&nbsp\;&nbsp\;Vstupné: 499&nbsp\;Kč (předprodej) / 600 Kč na místě
LOCATION:Jestřabí Lhota
END:VEVENT
END:VCALENDAR