BEGIN:VCALENDAR
VERSION:2.0
CALSCALE:GREGORIAN
PRODID:-//MyApp//Calendar 1.0//EN
BEGIN:VEVENT
METHOD:PUBLISH
UID:44657@regionalniportaly.cz
DTSTAMP:20260422T112410Z
DTSTART;VALUE=DATE:20241019
DTEND;VALUE=DATE:20241020
SUMMARY:S ÚSMĚVY DONKICHOTŮ - se Světlanou Nálepkovou
DESCRIPTION:Kabaretní talk show S úsměvy Donkichotů volně navazuje nejen svým názvem\, ale i formátem na večer písní\, prozaických promluv a veršů dvojice Vodňanský – Skoumal za jejich hvězdného období v Činoherním klubu. Aktéry nového pořadu jsou muzikanti a divadelníci Zbyněk Petržela a Vít Šujan\, kteří si jako hlavní hvězdy večera zvou mnohé osobnosti herecké a hudební branže. Společně pak na písních a textech svých\, i někdejších renomovaných kolegů V+S\, posluchače a diváky provedou&nbsp\;nejen světem současným\, ale také úskalími dramatu\, nonsensu a komiky. Jejich stylově různorodé komentáře ukazují\, že metoda komorního hudebního divadla zůstává stále aktuální.
LOCATION:Volanice
END:VEVENT
END:VCALENDAR