BEGIN:VCALENDAR
VERSION:2.0
CALSCALE:GREGORIAN
PRODID:-//MyApp//Calendar 1.0//EN
BEGIN:VEVENT
METHOD:PUBLISH
UID:43252@regionalniportaly.cz
DTSTAMP:20260422T060914Z
DTSTART;VALUE=DATE:20240605
DTEND;VALUE=DATE:20240606
SUMMARY:Cestuji za Kačku - Kapverdy jinak
DESCRIPTION:Vstupné: 150 Kč
LOCATION:Nymburk
END:VEVENT
END:VCALENDAR