BEGIN:VCALENDAR
VERSION:2.0
CALSCALE:GREGORIAN
PRODID:-//MyApp//Calendar 1.0//EN
BEGIN:VEVENT
METHOD:PUBLISH
UID:41555@regionalniportaly.cz
DTSTAMP:20260422T031317Z
DTSTART;VALUE=DATE:20240420
DTEND;VALUE=DATE:20240421
SUMMARY:Musica Florea: Neznámý Leoš Janáček a počátky baroka
DESCRIPTION:Vstupné: 150 - 300\,-Kč
LOCATION:Nymburk
END:VEVENT
END:VCALENDAR