BEGIN:VCALENDAR
VERSION:2.0
CALSCALE:GREGORIAN
PRODID:-//MyApp//Calendar 1.0//EN
BEGIN:VEVENT
METHOD:PUBLISH
UID:41543@regionalniportaly.cz
DTSTAMP:20260422T074613Z
DTSTART;VALUE=DATE:20240412
DTEND;VALUE=DATE:20240413
SUMMARY:Swing v divadelním klubu
DESCRIPTION:Vstupné: 150 Kč
LOCATION:Nymburk
END:VEVENT
END:VCALENDAR