BEGIN:VCALENDAR
VERSION:2.0
CALSCALE:GREGORIAN
PRODID:-//MyApp//Calendar 1.0//EN
BEGIN:VEVENT
METHOD:PUBLISH
UID:41541@regionalniportaly.cz
DTSTAMP:20260422T075312Z
DTSTART;VALUE=DATE:20240411
DTEND;VALUE=DATE:20240412
SUMMARY:DJ2/ Dámy vpřed!
DESCRIPTION:Hálkovo městské divadlo Nymburk\, 19:00\nVstupné: 580 Kč
LOCATION:Nymburk
END:VEVENT
END:VCALENDAR