BEGIN:VCALENDAR
VERSION:2.0
CALSCALE:GREGORIAN
PRODID:-//MyApp//Calendar 1.0//EN
BEGIN:VEVENT
METHOD:PUBLISH
UID:40737@regionalniportaly.cz
DTSTAMP:20260422T112501Z
DTSTART;VALUE=DATE:20241114
DTEND;VALUE=DATE:20241115
SUMMARY:Jaroslav Dušek - Čtyři dohody
DESCRIPTION:Autor: Don Miguel RuizV hlavní roli tohoto divadelního představení je Jaroslav Dušek.&nbsp\;Spoluúčinkují: Pjér La Š´éz a Zdeněk KonopásekSvětelný design Viktor Zborník\, zvuk Martin Dušek.Ve&nbsp\;Čtyřech dohodách&nbsp\;odhaluje Don Miguel Ruiz zdroj omezujících názorů\, které připravují o radost a vedou ke zbytečnému utrpení.&nbsp\;Čtyři dohody\, založené na staré toltécké moudrosti\, nabízejí silný kód chování\, který dokáže rychle proměnit náš život v nový prožitek svobody\, opravdového štěstí a lásky.&nbsp\;V&nbsp\;podstatě říkají – nehřešte slovem\, neberte si nic osobně\, nevytvářejte si žádné domněnky\, dělejte vše\, jak nejlépe dovedete…Představení je odlehčené\, podané s&nbsp\;nadsázkou a&nbsp\;velkou mírou improvizace.Vstupné: 450 Kč.Délka představení: 120 minut bez přestávky.Jedná o benefiční představení a část benefičního výtěžku bude věnována organizaci&nbsp\;Rodinné centrum Routa z.s. Čelákovice.Based on thebook The Four Agreements&nbsp\;©&nbsp\;1997by Miguel Angel Ruiz\, M.D. and Janet Mills. Produced with permission ofAmber-Allen Publishing\, Inc. P.O. Box 6657\, San Rafael\, CA 94903. All rightsreserved.&nbsp\;
LOCATION:Čelákovice
END:VEVENT
END:VCALENDAR