BEGIN:VCALENDAR
VERSION:2.0
CALSCALE:GREGORIAN
PRODID:-//MyApp//Calendar 1.0//EN
BEGIN:VEVENT
METHOD:PUBLISH
UID:37787@regionalniportaly.cz
DTSTAMP:20260422T012519Z
DTSTART;VALUE=DATE:20231222
DTEND;VALUE=DATE:20231223
SUMMARY:Vánoční unplugged koncert
DESCRIPTION:Milujeme tradice\, takže pojďme vytvořit novou.... Přijďte na nevšední koncert v sokolském klubu\, kde se budou linout vůně cukroví a svařeného vína!
LOCATION:Velký Osek
END:VEVENT
END:VCALENDAR