BEGIN:VCALENDAR
VERSION:2.0
CALSCALE:GREGORIAN
PRODID:-//MyApp//Calendar 1.0//EN
BEGIN:VEVENT
METHOD:PUBLISH
UID:36814@regionalniportaly.cz
DTSTAMP:20260422T031242Z
DTSTART;VALUE=DATE:20231216
DTEND;VALUE=DATE:20231217
SUMMARY:Perverzní kabaret - Vánoce 23
DESCRIPTION:Další nekompromisní vánoční prasení perverzního kabaretu.Úspěšné komediální představení nymburských performerů začíná daleko za hranicí dobrého vkusu. Na scéně se objevuje od roku 2013. Skládá se z autorských scének\, písniček a sólových výstupů. Vše je obaleno lepkavou směsicí lascivity\, nekorektní nadsázky a studu. Nic zde není svaté a nic není a nebude tabu. Večer plný perverzit a čuňáren nemusí být jen nechutný. Může být i očistnou lázní. Diváci v představení společně s účinkujícími posouvají hranice toho\, čemu je možné se smát. Stejný program se nikdy neopakuje dvakrát a díky tomu je každý kabaret originál.
LOCATION:Nymburk
END:VEVENT
END:VCALENDAR