BEGIN:VCALENDAR
VERSION:2.0
CALSCALE:GREGORIAN
PRODID:-//MyApp//Calendar 1.0//EN
BEGIN:VEVENT
METHOD:PUBLISH
UID:36284@regionalniportaly.cz
DTSTAMP:20260422T043353Z
DTSTART;VALUE=DATE:20240121
DTEND;VALUE=DATE:20240122
SUMMARY:TRANSFORMERS SHOW!
DESCRIPTION:Nymburk\, tuhle neděli&nbsp\;děti rozhodně nebudou chtít strávit u televize.Horká novinka&nbsp\;- SHOW GIGANTICKÝCH ROBOTŮ&nbsp\;ve Vašem městě!&nbsp\;Jediné turné v&nbsp\;ČR\, které když propásnete\, bude nenávratně pryč.pozn.:&nbsp\;Kamarádka vás zabije\, pokud ji nedáte vědět taky :)
LOCATION:Nymburk
END:VEVENT
END:VCALENDAR