BEGIN:VCALENDAR
VERSION:2.0
CALSCALE:GREGORIAN
PRODID:-//MyApp//Calendar 1.0//EN
BEGIN:VEVENT
METHOD:PUBLISH
UID:35336@regionalniportaly.cz
DTSTAMP:20260422T012549Z
DTSTART;VALUE=DATE:20231210
DTEND;VALUE=DATE:20231211
SUMMARY:Kouzelná školka uzamčená na fanfáru
DESCRIPTION:NOVINKA pro děti v&nbsp\;licenci ČTKouzelná školka\, televizní fenomén pro děti (denně sleduje cca 60tis. diváků v ČR )\, a nyní konečně ožívá a do divadla Vás s dětmi srdečně zve František z Fanfárie a jeho školková parťačka Lucka. Představení pro děti v licenci ČT se spoustou zábavy\, písniček\, překvapení a hlavně dobré nálady už brzy přivítá diváky v divadelní Kouzelné školce v sálech po celé ČR.Pondělí až pátek běží tradiční oblíbený dětský pořad v každodenní premiéře i repríze jako originální autorský program pro děti 10x v týdnu na ČT Déčku\, bezpečném TV a webovém prostoru pro děti\, rodiče i MŠ a ZŠ. Zároveň je pořad obrovskou metou a inspiruje nové tvůrce\, kteří se snaží zaujmout dětské diváky a čerpat inspiraci z mnoha lety ověřeného konceptu dětské tvorby České televize. ORIGINÁL JE vždy JEN JEDEN!O víkendech se k výročí 10&nbsp\; let Déčka Kouzelná školka tajně OTEVÍRÁ a vydává se svou divadelní šou a nadupanými školkovými písničkami na výlet za dětmi do kulturních sálů!Jaké to je v&nbsp\;Kouzelné školce\, když mají děti volno\, o víkendu\, když skřítci z&nbsp\;Fanfárie a Lucka dorazí za dětmi do jejich města\, tak to je spoustu let tajemství a rozluští ho už brzy pouze diváci v&nbsp\;sále NAŽIVO!Zveme Vás: přijďte si s Lůcou a Františkem HRÁT\, do rytmu vrtět\, nahlas se SMÁT a hlavně si společně NAŽIVO se školkou volníčko UŽÍVAT!Obrázky děti malují a posílají jako úkoly každý týden do televize. Na obrázky se těší i L+F+F i na jejich představení\, na závěr 3&nbsp\; vylosují a odmění velikým plakátem s věnováním a s podpisem na PAMÁTKU!Zveme Vás: přijďte si HRÁT\, do rytmu vrtět\, nahlas se SMÁT a hlavně si společně NAŽIVO se školkou UŽÍVAT!Délka představení: 1 hodina\, nemá přestávku.Vstupné 295 Kč\, k sezení bez místa určení.PROLINK na web a popis na Kouzelné školce a fotky z TV:https://www.kouzelnaskolka.com/cz/predstaveni/kouzelna-skolka-uzamcena-na-fanfaru-predstaveni-pro-deti-s-luckou-a-skritkem-frantiskem-nazivo-#content&nbsp\;
LOCATION:Čelákovice
END:VEVENT
END:VCALENDAR