BEGIN:VCALENDAR
VERSION:2.0
CALSCALE:GREGORIAN
PRODID:-//MyApp//Calendar 1.0//EN
BEGIN:VEVENT
METHOD:PUBLISH
UID:34750@regionalniportaly.cz
DTSTAMP:20260422T012741Z
DTSTART;VALUE=DATE:20240110
DTEND;VALUE=DATE:20240111
SUMMARY:Novoroční koncert města Čelákovic
DESCRIPTION:Unikátní orchestrální pojetí koncertu se členy orchestru Karla Vlacha Septet Plus&nbsp\;s hostem Martinem Chodúrem. Slavnostní punc koncertu dodává nejen pečlivý výběr písní z různých etap především minulého století od zpěváků a autorů\, kteří Chodúra na jeho hudební cestě v nějaké podobě ovlivnili\, ale třeba i umělcův na první pohled nepřehlédnutelný a pro tuto příležitost na míru ušitý luxusní oblek s červeným sakem.&nbsp\;Vstupné 390/195 Kč. Platí sleva ZTP a senior 70+. &nbsp\;&nbsp\;&nbsp\;&nbsp\;
LOCATION:Čelákovice
END:VEVENT
END:VCALENDAR