BEGIN:VCALENDAR
VERSION:2.0
CALSCALE:GREGORIAN
PRODID:-//MyApp//Calendar 1.0//EN
BEGIN:VEVENT
METHOD:PUBLISH
UID:33708@regionalniportaly.cz
DTSTAMP:20260422T014432Z
DTSTART;VALUE=DATE:20230818
DTEND;VALUE=DATE:20230819
SUMMARY:Divadelní představení : "Tlustý prase.."
DESCRIPTION:Již tradičně přicházíme s divadelním představením pod srpnovou noční oblohou na I. nádvoří zámku v Kostelci nad Černými lesy.V pátek 18.08.2023 uvedeme od 20:00 úspěšné představení v podání herců společnosti INDIGO.&nbsp\;Současný&nbsp\;příběh velké lásky\, která musí přemoct několik kil nadváhy navíc. Hlavní hrdinka je totiž tlustá jako prase.Tlustý prase...!"Láska prý hory přenáší. Co když ale vážíte tolik\, že se do náruče lásky už nevejdete? Co když žijete ve světě\, kde touha po dokonalosti vám vymezila jen malé místo bez slunce? Buď se okamžitě změňte a buďte hubení\, tedy krásní\, tedy úspěšní a proto i šťastní. Anebo se vydejte do nelehkého boje a buďte sami sebou\, i když možná prohrajete."Režie: Petr MikeskaPřeklad: Dana HábováScéna a kostýmy: Lubica Bábek MelcerováHrají:Jana Trojanová\, Michael Vykus/Ondřej RychlýLilian Fischerová\, Martin Kraus/Tomáš Novotný
LOCATION:Kostelec nad Černými Lesy
END:VEVENT
END:VCALENDAR