BEGIN:VCALENDAR
VERSION:2.0
CALSCALE:GREGORIAN
PRODID:-//MyApp//Calendar 1.0//EN
BEGIN:VEVENT
METHOD:PUBLISH
UID:33440@regionalniportaly.cz
DTSTAMP:20260422T012644Z
DTSTART;VALUE=DATE:20230624
DTEND;VALUE=DATE:20230625
SUMMARY:Dámský krejčí - divadelní vystoupení
DESCRIPTION:Úvalský divadelní spolek uvádí komedii Georges Feydeaua Dámský krejčí&nbsp\;&nbsp\;&nbsp\;
LOCATION:Jirny
END:VEVENT
END:VCALENDAR