BEGIN:VCALENDAR
VERSION:2.0
CALSCALE:GREGORIAN
PRODID:-//MyApp//Calendar 1.0//EN
BEGIN:VEVENT
METHOD:PUBLISH
UID:32678@regionalniportaly.cz
DTSTAMP:20260422T001251Z
DTSTART;VALUE=DATE:20230526
DTEND;VALUE=DATE:20230527
SUMMARY:Šansonárium Miloně Čepelky
DESCRIPTION:Známý spoluzakladatel divadla Járy Cimrmana Miloň Čepelka inspiroval hudebního skladatele. Pokud se vám líbí text písně Dobrodružství s bohem Panem napsaný pro Martu Kubišovou\, budete nadšení ze zhudebněných básní Miloně Čepelky ve stylu šansonů.&nbsp\;Nyní máte příležitost užít si nejen povídání s touto multitalentovanou&nbsp\;osobnostní jehož si mnozí vybavíte v roli originálního překladatele japonštiny v Jáchyme\, hoď ho do stroje\, milovníka žen hraběte von Zeppelin i protagonistu ženských rolí\, ale společně s ním se můžete zaposlouchat do originálních šansonů v podání zpěvačky a herečky Petry Tenorové\, kterou na klavír doprovodí samotný autor hudby Patrik Ulrich.&nbsp\;Počet míst je omezen\, proto si včas zakupte vstupenky on-line nebo přímo na úřadě městysu Škvorec.&nbsp\;Vstup na zámek je od 17:30 hodin\, na místě je k dispozici drobné občerstvení.&nbsp\;Pořádá Spolek sousedů ve spolupráci s rodinou Eremeev za podpory Městyse Škvorec.
LOCATION:Škvorec
END:VEVENT
END:VCALENDAR